BEGIN:VCALENDAR
VERSION:2.0
PRODID:icalendar-ruby
CALSCALE:GREGORIAN
METHOD:PUBLISH
BEGIN:VEVENT
DTSTAMP:20260420T065435Z
UID:2-792834@stjohnstrasburg.org
DTSTART:20261011T133000Z
DTEND:20261012T023000Z
CLASS:PUBLIC
CREATED:20260420T025420
DESCRIPTION:Join us at 9:30 in person or online for our morning worship.  
 At 10:45 is our elementary and youth Sunday School classes.  You are welc
 ome!
LAST-MODIFIED:20260420T025420
LOCATION:St John United Church of Christ
SUMMARY:Sunday morning worship
URL;VALUE=URI:https://stjohnstrasburg.org/events/sunday-morning-worship/202
 6-10-11
ATTACH;FILENAME=IMG_7392.JPG;FMTTYPE=image/jpeg:https://dq5pwpg1q8ru0.cloud
 front.net/2023/09/25/16/21/36/d8744c3b-d6e1-454f-a0a3-657d3c6948c9/IMG_739
 2.JPG
END:VEVENT
END:VCALENDAR
